BEGIN:VCALENDAR
VERSION:2.0
PRODID:-//Beyond First Aid - ECPv6.15.20//NONSGML v1.0//EN
CALSCALE:GREGORIAN
METHOD:PUBLISH
X-WR-CALNAME:Beyond First Aid
X-ORIGINAL-URL:https://www.beyondfirstaid.org
X-WR-CALDESC:Events for Beyond First Aid
REFRESH-INTERVAL;VALUE=DURATION:PT1H
X-Robots-Tag:noindex
X-PUBLISHED-TTL:PT1H
BEGIN:VTIMEZONE
TZID:Europe/London
BEGIN:DAYLIGHT
TZOFFSETFROM:+0000
TZOFFSETTO:+0100
TZNAME:BST
DTSTART:20250330T010000
END:DAYLIGHT
BEGIN:STANDARD
TZOFFSETFROM:+0100
TZOFFSETTO:+0000
TZNAME:GMT
DTSTART:20251026T010000
END:STANDARD
BEGIN:DAYLIGHT
TZOFFSETFROM:+0000
TZOFFSETTO:+0100
TZNAME:BST
DTSTART:20260329T010000
END:DAYLIGHT
BEGIN:STANDARD
TZOFFSETFROM:+0100
TZOFFSETTO:+0000
TZNAME:GMT
DTSTART:20261025T010000
END:STANDARD
BEGIN:DAYLIGHT
TZOFFSETFROM:+0000
TZOFFSETTO:+0100
TZNAME:BST
DTSTART:20270328T010000
END:DAYLIGHT
BEGIN:STANDARD
TZOFFSETFROM:+0100
TZOFFSETTO:+0000
TZNAME:GMT
DTSTART:20271031T010000
END:STANDARD
END:VTIMEZONE
BEGIN:VEVENT
DTSTART;TZID=Europe/London:20260718T103000
DTEND;TZID=Europe/London:20260718T160000
DTSTAMP:20260420T200742
CREATED:20260417T084442Z
LAST-MODIFIED:20260417T085355Z
UID:4397431-1784370600-1784390400@www.beyondfirstaid.org
SUMMARY:Theatre in the Park (TBC)
DESCRIPTION:Q094 \nx2 \nExpected 600 (good weather)
URL:https://www.beyondfirstaid.org/event/theatre-in-the-park-tbc/
LOCATION:Elms Field\, Wokingham\, Elms Field\, Wokingham\, United Kingdom
CATEGORIES:Event Cover
END:VEVENT
END:VCALENDAR