BEGIN:VCALENDAR
VERSION:2.0
PRODID:-//Beyond First Aid - ECPv6.15.18//NONSGML v1.0//EN
CALSCALE:GREGORIAN
METHOD:PUBLISH
X-WR-CALNAME:Beyond First Aid
X-ORIGINAL-URL:https://www.beyondfirstaid.org
X-WR-CALDESC:Events for Beyond First Aid
REFRESH-INTERVAL;VALUE=DURATION:PT1H
X-Robots-Tag:noindex
X-PUBLISHED-TTL:PT1H
BEGIN:VTIMEZONE
TZID:Europe/London
BEGIN:DAYLIGHT
TZOFFSETFROM:+0000
TZOFFSETTO:+0100
TZNAME:BST
DTSTART:20250330T010000
END:DAYLIGHT
BEGIN:STANDARD
TZOFFSETFROM:+0100
TZOFFSETTO:+0000
TZNAME:GMT
DTSTART:20251026T010000
END:STANDARD
BEGIN:DAYLIGHT
TZOFFSETFROM:+0000
TZOFFSETTO:+0100
TZNAME:BST
DTSTART:20260329T010000
END:DAYLIGHT
BEGIN:STANDARD
TZOFFSETFROM:+0100
TZOFFSETTO:+0000
TZNAME:GMT
DTSTART:20261025T010000
END:STANDARD
BEGIN:DAYLIGHT
TZOFFSETFROM:+0000
TZOFFSETTO:+0100
TZNAME:BST
DTSTART:20270328T010000
END:DAYLIGHT
BEGIN:STANDARD
TZOFFSETFROM:+0100
TZOFFSETTO:+0000
TZNAME:GMT
DTSTART:20271031T010000
END:STANDARD
END:VTIMEZONE
BEGIN:VEVENT
DTSTART;TZID=Europe/London:20260913T093000
DTEND;TZID=Europe/London:20260913T123000
DTSTAMP:20260420T151709
CREATED:20260321T175455Z
LAST-MODIFIED:20260403T105214Z
UID:4397332-1789291800-1789302600@www.beyondfirstaid.org
SUMMARY:SOX 10KM
DESCRIPTION:x2 and cyclist
URL:https://www.beyondfirstaid.org/event/sox-10km/
LOCATION:SOUTH OXFORDSHIRE BREWERY\, OX10 6AS
CATEGORIES:Event Cover
ATTACH;FMTTYPE=image/jpeg:https://www.beyondfirstaid.org/wp-content/uploads/2022/08/AdobeStock_295354279.jpeg
END:VEVENT
END:VCALENDAR