BEGIN:VCALENDAR
VERSION:2.0
PRODID:-//Beyond First Aid - ECPv6.15.18//NONSGML v1.0//EN
CALSCALE:GREGORIAN
METHOD:PUBLISH
X-WR-CALNAME:Beyond First Aid
X-ORIGINAL-URL:https://www.beyondfirstaid.org
X-WR-CALDESC:Events for Beyond First Aid
REFRESH-INTERVAL;VALUE=DURATION:PT1H
X-Robots-Tag:noindex
X-PUBLISHED-TTL:PT1H
BEGIN:VTIMEZONE
TZID:Europe/London
BEGIN:DAYLIGHT
TZOFFSETFROM:+0000
TZOFFSETTO:+0100
TZNAME:BST
DTSTART:20250330T010000
END:DAYLIGHT
BEGIN:STANDARD
TZOFFSETFROM:+0100
TZOFFSETTO:+0000
TZNAME:GMT
DTSTART:20251026T010000
END:STANDARD
BEGIN:DAYLIGHT
TZOFFSETFROM:+0000
TZOFFSETTO:+0100
TZNAME:BST
DTSTART:20260329T010000
END:DAYLIGHT
BEGIN:STANDARD
TZOFFSETFROM:+0100
TZOFFSETTO:+0000
TZNAME:GMT
DTSTART:20261025T010000
END:STANDARD
BEGIN:DAYLIGHT
TZOFFSETFROM:+0000
TZOFFSETTO:+0100
TZNAME:BST
DTSTART:20270328T010000
END:DAYLIGHT
BEGIN:STANDARD
TZOFFSETFROM:+0100
TZOFFSETTO:+0000
TZNAME:GMT
DTSTART:20271031T010000
END:STANDARD
END:VTIMEZONE
BEGIN:VEVENT
DTSTART;TZID=Europe/London:20260509T073000
DTEND;TZID=Europe/London:20260509T183000
DTSTAMP:20260420T142000
CREATED:20230928T174635Z
LAST-MODIFIED:20260414T091129Z
UID:4393054-1778311800-1778351400@www.beyondfirstaid.org
SUMMARY:Run to the Sea- Brighton (Overnight)
DESCRIPTION:#3095P \n4x medics with 2 cars\, over night from the Friday \nStart – Christ Hospital School\, Horsham\, RH13 0JB \n\nFinish – Kingsway\, Brighton and Hove\, Hove BN3 2FR \nstaggered start 08.00-08.30\, 9.5 hours cut off \nADV3637418- rooms in your names \nHorsham North (Horsham Station) \n57 North Street\, Horsham\, West Sussex\, RH12 1RB
URL:https://www.beyondfirstaid.org/event/run-to-the-sea/
LOCATION:Christ’s Hospital\, Christs Hospital\, Horsham\, West Sussex\, RH13 0JB
CATEGORIES:Event Cover
ATTACH;FMTTYPE=image/jpeg:https://www.beyondfirstaid.org/wp-content/uploads/2021/11/running.jpg
END:VEVENT
END:VCALENDAR