BEGIN:VCALENDAR
VERSION:2.0
PRODID:-//Beyond First Aid - ECPv6.15.18//NONSGML v1.0//EN
CALSCALE:GREGORIAN
METHOD:PUBLISH
X-WR-CALNAME:Beyond First Aid
X-ORIGINAL-URL:https://www.beyondfirstaid.org
X-WR-CALDESC:Events for Beyond First Aid
REFRESH-INTERVAL;VALUE=DURATION:PT1H
X-Robots-Tag:noindex
X-PUBLISHED-TTL:PT1H
BEGIN:VTIMEZONE
TZID:Europe/London
BEGIN:DAYLIGHT
TZOFFSETFROM:+0000
TZOFFSETTO:+0100
TZNAME:BST
DTSTART:20250330T010000
END:DAYLIGHT
BEGIN:STANDARD
TZOFFSETFROM:+0100
TZOFFSETTO:+0000
TZNAME:GMT
DTSTART:20251026T010000
END:STANDARD
BEGIN:DAYLIGHT
TZOFFSETFROM:+0000
TZOFFSETTO:+0100
TZNAME:BST
DTSTART:20260329T010000
END:DAYLIGHT
BEGIN:STANDARD
TZOFFSETFROM:+0100
TZOFFSETTO:+0000
TZNAME:GMT
DTSTART:20261025T010000
END:STANDARD
BEGIN:DAYLIGHT
TZOFFSETFROM:+0000
TZOFFSETTO:+0100
TZNAME:BST
DTSTART:20270328T010000
END:DAYLIGHT
BEGIN:STANDARD
TZOFFSETFROM:+0100
TZOFFSETTO:+0000
TZNAME:GMT
DTSTART:20271031T010000
END:STANDARD
END:VTIMEZONE
BEGIN:VEVENT
DTSTART;TZID=Europe/London:20260913T063000
DTEND;TZID=Europe/London:20260913T143000
DTSTAMP:20260420T174801
CREATED:20230808T185839Z
LAST-MODIFIED:20260403T105113Z
UID:4392981-1789281000-1789309800@www.beyondfirstaid.org
SUMMARY:Reading Triathlon 2026
DESCRIPTION:Q092 \nx4 \n\n\n\nSprint\n750 m swim\, 22 km cycle\, 5.4 km run\n\n\nStandard\n1500 m swim\, 40 km cycle\, 10.8 km run\n\n\nSprint Relay\nAs Sprint\, but with 2-3 participants in a team\n\n\nAquathlon\n750 m swim\, 5.4 km run\n\n\nAquabike\n1500 m swim\, 40 km cycle\n\n\n\non the course- ///shorts.paths.swept \nRace HQ: Reading Lake\, Pingewood\, Reading\, RG30 3UN \nReading Triathlon Course Info
URL:https://www.beyondfirstaid.org/event/reading-triathlon/
LOCATION:Reading Lake Hotel\, Kirton's Farm Road\, Reading\, RG30 3UN
CATEGORIES:Event Cover
ATTACH;FMTTYPE=image/jpeg:https://www.beyondfirstaid.org/wp-content/uploads/2022/06/AdobeStock_175890479.jpg
END:VEVENT
END:VCALENDAR