BEGIN:VCALENDAR
VERSION:2.0
PRODID:-//Beyond First Aid - ECPv6.15.18//NONSGML v1.0//EN
CALSCALE:GREGORIAN
METHOD:PUBLISH
X-WR-CALNAME:Beyond First Aid
X-ORIGINAL-URL:https://www.beyondfirstaid.org
X-WR-CALDESC:Events for Beyond First Aid
REFRESH-INTERVAL;VALUE=DURATION:PT1H
X-Robots-Tag:noindex
X-PUBLISHED-TTL:PT1H
BEGIN:VTIMEZONE
TZID:Europe/London
BEGIN:DAYLIGHT
TZOFFSETFROM:+0000
TZOFFSETTO:+0100
TZNAME:BST
DTSTART:20250330T010000
END:DAYLIGHT
BEGIN:STANDARD
TZOFFSETFROM:+0100
TZOFFSETTO:+0000
TZNAME:GMT
DTSTART:20251026T010000
END:STANDARD
BEGIN:DAYLIGHT
TZOFFSETFROM:+0000
TZOFFSETTO:+0100
TZNAME:BST
DTSTART:20260329T010000
END:DAYLIGHT
BEGIN:STANDARD
TZOFFSETFROM:+0100
TZOFFSETTO:+0000
TZNAME:GMT
DTSTART:20261025T010000
END:STANDARD
BEGIN:DAYLIGHT
TZOFFSETFROM:+0000
TZOFFSETTO:+0100
TZNAME:BST
DTSTART:20270328T010000
END:DAYLIGHT
BEGIN:STANDARD
TZOFFSETFROM:+0100
TZOFFSETTO:+0000
TZNAME:GMT
DTSTART:20271031T010000
END:STANDARD
END:VTIMEZONE
BEGIN:VEVENT
DTSTART;TZID=Europe/London:20261129T093000
DTEND;TZID=Europe/London:20261129T133000
DTSTAMP:20260420T165746
CREATED:20260402T103643Z
LAST-MODIFIED:20260406T151050Z
UID:4393537-1795944600-1795959000@www.beyondfirstaid.org
SUMMARY:Mapledurham 10 & half
DESCRIPTION:
URL:https://www.beyondfirstaid.org/event/mapledurham-10-half/
LOCATION:Mapledurham Estate\, The Estate Office\, Reading\, RG4 7TR\, United Kingdom
END:VEVENT
END:VCALENDAR