BEGIN:VCALENDAR
VERSION:2.0
PRODID:-//Beyond First Aid - ECPv6.15.18//NONSGML v1.0//EN
CALSCALE:GREGORIAN
METHOD:PUBLISH
X-WR-CALNAME:Beyond First Aid
X-ORIGINAL-URL:https://www.beyondfirstaid.org
X-WR-CALDESC:Events for Beyond First Aid
REFRESH-INTERVAL;VALUE=DURATION:PT1H
X-Robots-Tag:noindex
X-PUBLISHED-TTL:PT1H
BEGIN:VTIMEZONE
TZID:Europe/London
BEGIN:DAYLIGHT
TZOFFSETFROM:+0000
TZOFFSETTO:+0100
TZNAME:BST
DTSTART:20250330T010000
END:DAYLIGHT
BEGIN:STANDARD
TZOFFSETFROM:+0100
TZOFFSETTO:+0000
TZNAME:GMT
DTSTART:20251026T010000
END:STANDARD
BEGIN:DAYLIGHT
TZOFFSETFROM:+0000
TZOFFSETTO:+0100
TZNAME:BST
DTSTART:20260329T010000
END:DAYLIGHT
BEGIN:STANDARD
TZOFFSETFROM:+0100
TZOFFSETTO:+0000
TZNAME:GMT
DTSTART:20261025T010000
END:STANDARD
BEGIN:DAYLIGHT
TZOFFSETFROM:+0000
TZOFFSETTO:+0100
TZNAME:BST
DTSTART:20270328T010000
END:DAYLIGHT
BEGIN:STANDARD
TZOFFSETFROM:+0100
TZOFFSETTO:+0000
TZNAME:GMT
DTSTART:20271031T010000
END:STANDARD
END:VTIMEZONE
BEGIN:VEVENT
DTSTART;TZID=Europe/London:20260510T083000
DTEND;TZID=Europe/London:20260510T113000
DTSTAMP:20260420T092453
CREATED:20250113T161515Z
LAST-MODIFIED:20260330T180307Z
UID:4393423-1778401800-1778412600@www.beyondfirstaid.org
SUMMARY:Beale Park 10km 2026
DESCRIPTION:#3096 \nhttps://www.eventbrite.com/e/beale-park-10-5km-tickets-1979300049730?aff=oddtdtcreator \n2 hour cut off \n\nBeale Park\, Pangbourne RG8 9NW \n\n 
URL:https://www.beyondfirstaid.org/event/beale-park-10km-tbc/
LOCATION:Beale park\, Lower Basildon\, Pangbourne\, Reading\, RG8 9NW
CATEGORIES:Event Cover
ATTACH;FMTTYPE=image/jpeg:https://www.beyondfirstaid.org/wp-content/uploads/2022/08/AdobeStock_295354279.jpeg
END:VEVENT
END:VCALENDAR